BEGIN:VCALENDAR
VERSION:2.0
CALSCALE:GREGORIAN
METHOD:PUBLISH
X-WR-TIMEZONE:Australia/Sydney
BEGIN:VTIMEZONE
TZID:Australia/Sydney
BEGIN:STANDARD
TZNAME:AEST
END:STANDARD
END:VTIMEZONE
BEGIN:VEVENT
DTSTART;TZID=Australia/Sydney:20250311T085000
DTEND;TZID=Australia/Sydney:20250311T152000
DTSTAMP:20260422T194254
UID:1180
SUMMARY:Maribyrnong Divisional Swimming Carnival (qualifying students only)
DESCRIPTION:Oak Park Leisure Centre
SEQUENCE:0
STATUS:CONFIRMED
TRANSP:OPAQUE
END:VEVENT
END:VCALENDAR